BEGIN:VCALENDAR
PRODID:-//PUBBLE//agenda//NL
VERSION:2.0
METHOD:PUBLISH
BEGIN:VEVENT
DTSTART:20260408T180000Z
DTEND:20260408T200000Z
DTSTAMP:20260421T164848Z
UID:0acdfc78-ee0a-4db1-8fb0-3ad97d359a93
CREATED:20260421T164848Z
NAME:Cabaretvoorstelling van Thijs Kemperink brugmedia.nl
X-WR-CALNAME:Cabaretvoorstelling van Thijs Kemperink
X-ALT-DESC;FMTTYPE=text/html:<a href='/agenda/2026/4/8/cabaretvoorstelling-van-thijs-kemperink-358639'>/agenda/2026/4/8/cabaretvoorstelling-van-thijs-kemperink-358639</a> || <p>Thijs Kemperink is een rasechte verhalenverteller, geboren en getogen Tukker en maakte met zijn laatste voorstelling ook naam in de rest van Nederland. Met zijn authentieke persoonlijkheid en voorstellingen over alledaagse thema’s, verpakt in grappen en verhalen, overtuigde hij stad voor stad, dorp voor dorp.</p><p>Woensdag 8 april (2026) 20.00 uur &nbsp;De Schakel (Kastanjelaan 3) Hasselt &nbsp; &nbsp; &nbsp; &nbsp; &nbsp; &nbsp; &nbsp; &nbsp; &nbsp; &nbsp; &nbsp; &nbsp; &nbsp; &nbsp; &nbsp; &nbsp; &nbsp; &nbsp; &nbsp; &nbsp; &nbsp; &nbsp; toegang € 17,50 (SCAB-vrienden € 15,00) </p>
DESCRIPTION:<a href='/agenda/2026/4/8/cabaretvoorstelling-van-thijs-kemperink-358639'>/agenda/2026/4/8/cabaretvoorstelling-van-thijs-kemperink-358639</a> || <p>Thijs Kemperink is een rasechte verhalenverteller, geboren en getogen Tukker en maakte met zijn laatste voorstelling ook naam in de rest van Nederland. Met zijn authentieke persoonlijkheid en voorstellingen over alledaagse thema’s, verpakt in grappen en verhalen, overtuigde hij stad voor stad, dorp voor dorp.</p><p>Woensdag 8 april (2026) 20.00 uur &nbsp;De Schakel (Kastanjelaan 3) Hasselt &nbsp; &nbsp; &nbsp; &nbsp; &nbsp; &nbsp; &nbsp; &nbsp; &nbsp; &nbsp; &nbsp; &nbsp; &nbsp; &nbsp; &nbsp; &nbsp; &nbsp; &nbsp; &nbsp; &nbsp; &nbsp; &nbsp; toegang € 17,50 (SCAB-vrienden € 15,00) </p>
LAST-MODIFIED:20260421T164848Z
LOCATION: De Schakel | Kastanjelaan 3 Hasselt
SEQUENCE:0
STATUS:CONFIRMED
SUMMARY:Cabaretvoorstelling van Thijs Kemperink
TRANSP:OPAQUE
END:VEVENT
END:VCALENDAR
