BEGIN:VCALENDAR
PRODID:-//PUBBLE//agenda//NL
VERSION:2.0
METHOD:PUBLISH
BEGIN:VEVENT
DTSTART:20260107T144908Z
DTEND:20260118T150000Z
DTSTAMP:20260422T172007Z
UID:ff7f903b-ac96-470d-ac3b-a91b77e867b7
CREATED:20260422T172007Z
NAME:Brouwer 4U Open Steenwijkerland Darts 2026 gaat van start brugmedia.nl
X-WR-CALNAME:Brouwer 4U Open Steenwijkerland Darts 2026 gaat van start
X-ALT-DESC;FMTTYPE=text/html:<a href='/agenda/2026/1/17/brouwer-4u-open-steenwijkerland-darts-2026-gaat-van-start-351965'>/agenda/2026/1/17/brouwer-4u-open-steenwijkerland-darts-2026-gaat-van-start-351965</a> || <p>STEENWIJK - Op zaterdag 17 en zondag 18 januari start in de Meenthe te Steenwijk de 18e editie van het Brouwer 4U Open Steenwijkerland Darts. De organisatie ziet de interesse in darts nog ieder jaar toenemen.&nbsp;</p><p>Zo is het koppel evenement al tijdens de voorinschrijving uitverkocht. De organisatie is hierdoor blij verrast. Het evenement werkt namelijk dit jaar voor het eerst met een digitale voorinschrijving via het platform DartsConnect en digitale wedstrijdtelling via tablets. Dat is voor de deelnemers natuurlijk wel even wennen, gelukkig wist een ieder zich uiteindelijk te redden met de techniek.&nbsp;</p><h2>128 koppels</h2><p>Maar liefst 128 koppels zullen om de titel gaan strijden op zaterdag 17 januari. Vorig jaar waren het nog ambassadeur Richard Veenstra en Chris Landman die er met de titel vandoor gingen. Ook dit jaar nemen zij deel. Het koppel evenement start om 18:45 uur. Op zondag is er vanaf 11:00 uur het single evenement.&nbsp;</p><h2>Meer jeugd doet mee</h2><p>Deelnemers doen dan mee in de categorieën heren, dames en jeugd. Vooral bij die laatste groep neemt het aantal deelnemers de laatste jaren gestaag toe. “Een mooie ontwikkeling waar we hard aan werken,” aldus de organisatie. Het afgelopen jaar werd de samenwerking met de jeugdwerkers van Sociaal werk de Kop aan gegaan om de dartsport bij de jeugd onder de aandacht te brengen. Zo kon de schoolgaande jeugd van de RSG Stationsstraat vanaf december in de pauze leren darten. Van hen ziet de organisatie ook darters terug tijdens het evenement. Vorig jaar gingen Wessel Nijman en Adriana van Wijgerden-Vermaat er met de titels vandoor.&nbsp;</p><p>De organisatie vervolgt: “Benieuwd wie er dit jaar een gooi mag doen naar de winst? Kom dan gerust kijken in de Meenthe. Publiek is van harte welkom en heeft gratis entree. Voor meer informatie kan men een kijkje nemen op www.ostw.nl.”</p>
DESCRIPTION:<a href='/agenda/2026/1/17/brouwer-4u-open-steenwijkerland-darts-2026-gaat-van-start-351965'>/agenda/2026/1/17/brouwer-4u-open-steenwijkerland-darts-2026-gaat-van-start-351965</a> || <p>STEENWIJK - Op zaterdag 17 en zondag 18 januari start in de Meenthe te Steenwijk de 18e editie van het Brouwer 4U Open Steenwijkerland Darts. De organisatie ziet de interesse in darts nog ieder jaar toenemen.&nbsp;</p><p>Zo is het koppel evenement al tijdens de voorinschrijving uitverkocht. De organisatie is hierdoor blij verrast. Het evenement werkt namelijk dit jaar voor het eerst met een digitale voorinschrijving via het platform DartsConnect en digitale wedstrijdtelling via tablets. Dat is voor de deelnemers natuurlijk wel even wennen, gelukkig wist een ieder zich uiteindelijk te redden met de techniek.&nbsp;</p><h2>128 koppels</h2><p>Maar liefst 128 koppels zullen om de titel gaan strijden op zaterdag 17 januari. Vorig jaar waren het nog ambassadeur Richard Veenstra en Chris Landman die er met de titel vandoor gingen. Ook dit jaar nemen zij deel. Het koppel evenement start om 18:45 uur. Op zondag is er vanaf 11:00 uur het single evenement.&nbsp;</p><h2>Meer jeugd doet mee</h2><p>Deelnemers doen dan mee in de categorieën heren, dames en jeugd. Vooral bij die laatste groep neemt het aantal deelnemers de laatste jaren gestaag toe. “Een mooie ontwikkeling waar we hard aan werken,” aldus de organisatie. Het afgelopen jaar werd de samenwerking met de jeugdwerkers van Sociaal werk de Kop aan gegaan om de dartsport bij de jeugd onder de aandacht te brengen. Zo kon de schoolgaande jeugd van de RSG Stationsstraat vanaf december in de pauze leren darten. Van hen ziet de organisatie ook darters terug tijdens het evenement. Vorig jaar gingen Wessel Nijman en Adriana van Wijgerden-Vermaat er met de titels vandoor.&nbsp;</p><p>De organisatie vervolgt: “Benieuwd wie er dit jaar een gooi mag doen naar de winst? Kom dan gerust kijken in de Meenthe. Publiek is van harte welkom en heeft gratis entree. Voor meer informatie kan men een kijkje nemen op www.ostw.nl.”</p>
LAST-MODIFIED:20260422T172007Z
LOCATION: Rabo Theater De Meenthe | Stationsplein  1 Steenwijk
SEQUENCE:0
STATUS:CONFIRMED
SUMMARY:Brouwer 4U Open Steenwijkerland Darts 2026 gaat van start
TRANSP:OPAQUE
END:VEVENT
END:VCALENDAR
