BEGIN:VCALENDAR
PRODID:-//PUBBLE//agenda//NL
VERSION:2.0
METHOD:PUBLISH
BEGIN:VEVENT
DTSTART:20250927T173000Z
DTEND:20250927T200000Z
DTSTAMP:20260420T141549Z
UID:cbf91575-b2f1-433e-9299-f83d11402b16
CREATED:20260420T141549Z
NAME:Damesensemble Yerusha treed op in Hasselt brugmedia.nl
X-WR-CALNAME:Damesensemble Yerusha treed op in Hasselt
X-ALT-DESC;FMTTYPE=text/html:<a href='/agenda/2025/9/27/damesensemble-yerusha-treed-op-in-hasselt-341519'>/agenda/2025/9/27/damesensemble-yerusha-treed-op-in-hasselt-341519</a> || <p>Op d.v. zaterdag 27 september wordt er in de Grote kerk van Hasselt een zangavond georganiseerd ten behoeve van Stichting MAF (Mission Aviation Fellowship). Het concert wordt afgewisseld met liederen van damesensemble Yerusha en samenzang met Genemuider Bovenstem o.l.v. Erik Eenkhoorn. Het thema van deze Zangavond is “Kom reisgenoten, ‘t hoofd omhoog. Kaarten kunnen met korting gekocht worden via www.consolonl.nl en aan de kerk. De volledige opbrengst is bestemd voor het werk van MAF.</p>
DESCRIPTION:<a href='/agenda/2025/9/27/damesensemble-yerusha-treed-op-in-hasselt-341519'>/agenda/2025/9/27/damesensemble-yerusha-treed-op-in-hasselt-341519</a> || <p>Op d.v. zaterdag 27 september wordt er in de Grote kerk van Hasselt een zangavond georganiseerd ten behoeve van Stichting MAF (Mission Aviation Fellowship). Het concert wordt afgewisseld met liederen van damesensemble Yerusha en samenzang met Genemuider Bovenstem o.l.v. Erik Eenkhoorn. Het thema van deze Zangavond is “Kom reisgenoten, ‘t hoofd omhoog. Kaarten kunnen met korting gekocht worden via www.consolonl.nl en aan de kerk. De volledige opbrengst is bestemd voor het werk van MAF.</p>
LAST-MODIFIED:20260420T141549Z
LOCATION: Grote Kerk | Markt 8 Hasselt
SEQUENCE:0
STATUS:CONFIRMED
SUMMARY:Damesensemble Yerusha treed op in Hasselt
TRANSP:OPAQUE
END:VEVENT
END:VCALENDAR
